BEGIN:VCALENDAR
VERSION:2.0
PRODID: 20220917T120000/6190
CALSCALE:GREGORIAN
METHOD:PUBLISH
BEGIN:VTIMEZONE
TZID:Europe/Prague
BEGIN:STANDARD
END:STANDARD
END:VTIMEZONE
BEGIN:VEVENT
DTSTART:20220917T120000
DTEND:20220921T120000
SUMMARY:40th Congress od ESCRS
LOCATION:
DESCRIPTION:Miláno, Itálie
PRIORITY:3
END:VEVENT
END:VCALENDAR
