BEGIN:VCALENDAR
VERSION:2.0
PRODID: 20230414T120000/7049
CALSCALE:GREGORIAN
METHOD:PUBLISH
BEGIN:VTIMEZONE
TZID:Europe/Prague
BEGIN:STANDARD
END:STANDARD
END:VTIMEZONE
BEGIN:VEVENT
DTSTART:20230414T120000
DTEND:20230414T120000
SUMMARY:Pražský glaukomový den
LOCATION:Praha
DESCRIPTION:14. duben	
Pražský glaukomový den
PRAHA

PRIORITY:3
END:VEVENT
END:VCALENDAR
