BEGIN:VCALENDAR
VERSION:2.0
PRODID: 20230531T120000/7057
CALSCALE:GREGORIAN
METHOD:PUBLISH
BEGIN:VTIMEZONE
TZID:Europe/Prague
BEGIN:STANDARD
END:STANDARD
END:VTIMEZONE
BEGIN:VEVENT
DTSTART:20230531T120000
DTEND:20230603T120000
SUMMARY:XIII. Vitreoretinální škola ČVRS
LOCATION:MONÍNEC
DESCRIPTION:31. květen - 3. červen	
XIII. Vitreoretinální škola ČVRS
MONÍNEC

PRIORITY:3
END:VEVENT
END:VCALENDAR
