BEGIN:VCALENDAR
VERSION:2.0
PRODID: 20231014T120000/7064
CALSCALE:GREGORIAN
METHOD:PUBLISH
BEGIN:VTIMEZONE
TZID:Europe/Prague
BEGIN:STANDARD
END:STANDARD
END:VTIMEZONE
BEGIN:VEVENT
DTSTART:20231014T120000
DTEND:20231014T120000
SUMMARY:XXII. Mezioborové sympozium Diabetes Mellitus
LOCATION:OLOMOUC
DESCRIPTION:14. říjen	
XXII. Mezioborové sympozium Diabetes Mellitus
OLOMOUC

PRIORITY:3
END:VEVENT
END:VCALENDAR
