BEGIN:VCALENDAR
VERSION:2.0
PRODID: 20230921T164500/7083
CALSCALE:GREGORIAN
METHOD:PUBLISH
BEGIN:VTIMEZONE
TZID:Europe/Prague
BEGIN:STANDARD
END:STANDARD
END:VTIMEZONE
BEGIN:VEVENT
DTSTART:20230921T164500
DTEND:20230921T180000
SUMMARY:Kurz OCT Askin & Co. s.r.o.
LOCATION:Přednáškový sál kongresového centra Aldis, Eliščino nábřeží 375, 500 02 Hradec Králové
DESCRIPTION:21. 09. 2023 od 16:45 Přednáškový sál kongresového centra Aldis, Eliščino nábřeží 375, Hradec Králové
PRIORITY:3
END:VEVENT
END:VCALENDAR
