BEGIN:VCALENDAR
VERSION:2.0
PRODID: 20240525T120000/7102
CALSCALE:GREGORIAN
METHOD:PUBLISH
BEGIN:VTIMEZONE
TZID:Europe/Prague
BEGIN:STANDARD
END:STANDARD
END:VTIMEZONE
BEGIN:VEVENT
DTSTART:20240525T120000
DTEND:20240525T120000
SUMMARY:29. Den ambulantní oftalmologie PRŮHONICE
LOCATION:PRŮHONICE
DESCRIPTION:25. květen	29. Den ambulantní oftalmologie PRŮHONICE

PRIORITY:3
END:VEVENT
END:VCALENDAR
