BEGIN:VCALENDAR
VERSION:2.0
PRODID: 20250124T000000/7238
CALSCALE:GREGORIAN
METHOD:PUBLISH
BEGIN:VTIMEZONE
TZID:Europe/Prague
BEGIN:STANDARD
END:STANDARD
END:VTIMEZONE
BEGIN:VEVENT
DTSTART:20250124T000000
DTEND:20240125T000000
SUMMARY:XXII. Live a Video Surgery 2024 v ÚVN PRAHA
LOCATION:ÚVN PRAHA
DESCRIPTION:24. - 25. leden 	XXIV. Live a Video Surgery 2024 v ÚVN PRAHA

PRIORITY:3
END:VEVENT
END:VCALENDAR
