BEGIN:VCALENDAR
VERSION:2.0
PRODID: 20250228T120000/7240
CALSCALE:GREGORIAN
METHOD:PUBLISH
BEGIN:VTIMEZONE
TZID:Europe/Prague
BEGIN:STANDARD
END:STANDARD
END:VTIMEZONE
BEGIN:VEVENT
DTSTART:20250228T120000
DTEND:20250302T120000
SUMMARY:27th ESCRS Winter Meeting
LOCATION:Atény, Řecko
DESCRIPTION:28. únor - 2. březen	27th ESCRS Winter Meeting
PRIORITY:3
END:VEVENT
END:VCALENDAR
