BEGIN:VCALENDAR
VERSION:2.0
PRODID: 20250424T120000/7244
CALSCALE:GREGORIAN
METHOD:PUBLISH
BEGIN:VTIMEZONE
TZID:Europe/Prague
BEGIN:STANDARD
END:STANDARD
END:VTIMEZONE
BEGIN:VEVENT
DTSTART:20250424T120000
DTEND:20250425T120000
SUMMARY:Futurum Ophthalmologicum
LOCATION:ŠPINDLERŮV MLÝN
DESCRIPTION:24. - 25. duben  Futurum Ophthalmologicum
PRIORITY:3
END:VEVENT
END:VCALENDAR
