BEGIN:VCALENDAR
VERSION:2.0
PRODID: 20250605T120000/7254
CALSCALE:GREGORIAN
METHOD:PUBLISH
BEGIN:VTIMEZONE
TZID:Europe/Prague
BEGIN:STANDARD
END:STANDARD
END:VTIMEZONE
BEGIN:VEVENT
DTSTART:20250605T120000
DTEND:20250607T120000
SUMMARY:XVII. Symposium dětské oftalmologie
LOCATION:Brno
DESCRIPTION:5. – 7. červen	XVII. Symposium dětské oftalmologie
PRIORITY:3
END:VEVENT
END:VCALENDAR
