BEGIN:VCALENDAR
VERSION:2.0
PRODID: 20250904T120000/7256
CALSCALE:GREGORIAN
METHOD:PUBLISH
BEGIN:VTIMEZONE
TZID:Europe/Prague
BEGIN:STANDARD
END:STANDARD
END:VTIMEZONE
BEGIN:VEVENT
DTSTART:20250904T120000
DTEND:20250907T120000
SUMMARY:EURETINA Congress
LOCATION:Paříž, Francie
DESCRIPTION:4. - 7. září	EURETINA Congress
PRIORITY:3
END:VEVENT
END:VCALENDAR
