BEGIN:VCALENDAR
VERSION:2.0
PRODID: 20251017T120000/7261
CALSCALE:GREGORIAN
METHOD:PUBLISH
BEGIN:VTIMEZONE
TZID:Europe/Prague
BEGIN:STANDARD
END:STANDARD
END:VTIMEZONE
BEGIN:VEVENT
DTSTART:20251017T120000
DTEND:20251020T120000
SUMMARY:AAO 2025
LOCATION:Orlando, USA
DESCRIPTION:17. – 20. říjen	AAO 2025
PRIORITY:3
END:VEVENT
END:VCALENDAR
