BEGIN:VCALENDAR
VERSION:2.0
PRODID: 20260123T120000/7485
CALSCALE:GREGORIAN
METHOD:PUBLISH
BEGIN:VTIMEZONE
TZID:Europe/Prague
BEGIN:STANDARD
END:STANDARD
END:VTIMEZONE
BEGIN:VEVENT
DTSTART:20260123T120000
DTEND:20260324T120000
SUMMARY:XXV. Live a Video Surgery 2026
LOCATION:ÚVN Praha
DESCRIPTION:XXV. Live a Video Surgery 2026 v ÚVN 
PRAHA
PRIORITY:3
END:VEVENT
END:VCALENDAR
