BEGIN:VCALENDAR
VERSION:2.0
PRODID: 20260320T120000/7488
CALSCALE:GREGORIAN
METHOD:PUBLISH
BEGIN:VTIMEZONE
TZID:Europe/Prague
BEGIN:STANDARD
END:STANDARD
END:VTIMEZONE
BEGIN:VEVENT
DTSTART:20260320T120000
DTEND:20260320T120000
SUMMARY:XIX. Zlínský oční festival
LOCATION:ZLÍN
DESCRIPTION:XIX. Zlínský oční festival
ZLÍN
PRIORITY:3
END:VEVENT
END:VCALENDAR
