BEGIN:VCALENDAR
VERSION:2.0
PRODID: 20260319T120000/7489
CALSCALE:GREGORIAN
METHOD:PUBLISH
BEGIN:VTIMEZONE
TZID:Europe/Prague
BEGIN:STANDARD
END:STANDARD
END:VTIMEZONE
BEGIN:VEVENT
DTSTART:20260319T120000
DTEND:20260321T120000
SUMMARY:EEBA Annual Meeting
LOCATION:Coruna, Španělsko
DESCRIPTION:EEBA Annual Meeting
Coruna, Španělsko
PRIORITY:3
END:VEVENT
END:VCALENDAR
