BEGIN:VCALENDAR
VERSION:2.0
PRODID: 20260320T120000/7490
CALSCALE:GREGORIAN
METHOD:PUBLISH
BEGIN:VTIMEZONE
TZID:Europe/Prague
BEGIN:STANDARD
END:STANDARD
END:VTIMEZONE
BEGIN:VEVENT
DTSTART:20260320T120000
DTEND:20260321T120000
SUMMARY:17th World Congress on Controversies in Ophthalmology (COPHy)
LOCATION:Krakow, Polsko
DESCRIPTION:17th World Congress on Controversies in Ophthalmology (COPHy)
Krakow, Polsko
PRIORITY:3
END:VEVENT
END:VCALENDAR
