BEGIN:VCALENDAR
VERSION:2.0
PRODID: 20260327T120000/7491
CALSCALE:GREGORIAN
METHOD:PUBLISH
BEGIN:VTIMEZONE
TZID:Europe/Prague
BEGIN:STANDARD
END:STANDARD
END:VTIMEZONE
BEGIN:VEVENT
DTSTART:20260327T120000
DTEND:20260327T120000
SUMMARY:XX. Oftalmologický kongres Oční kliniky Horní Počernice
LOCATION:PRAHA
DESCRIPTION:XX. Oftalmologický kongres Oční kliniky Horní Počernice
PRAHA
PRIORITY:3
END:VEVENT
END:VCALENDAR
