BEGIN:VCALENDAR
VERSION:2.0
PRODID: 20260328T120000/7492
CALSCALE:GREGORIAN
METHOD:PUBLISH
BEGIN:VTIMEZONE
TZID:Europe/Prague
BEGIN:STANDARD
END:STANDARD
END:VTIMEZONE
BEGIN:VEVENT
DTSTART:20260328T120000
DTEND:20260328T120000
SUMMARY:27. Vejdovského Olomoucký vědecký den
LOCATION:OLOMOUC
DESCRIPTION:27. Vejdovského Olomoucký vědecký den
OLOMOUC
PRIORITY:3
END:VEVENT
END:VCALENDAR
