BEGIN:VCALENDAR
VERSION:2.0
PRODID: 20260409T120000/7493
CALSCALE:GREGORIAN
METHOD:PUBLISH
BEGIN:VTIMEZONE
TZID:Europe/Prague
BEGIN:STANDARD
END:STANDARD
END:VTIMEZONE
BEGIN:VEVENT
DTSTART:20260409T120000
DTEND:20260411T120000
SUMMARY:14. Kongres České glaukomové společnosti
LOCATION:OLOMOUC
DESCRIPTION:14. Kongres České glaukomové společnosti
OLOMOUC
PRIORITY:3
END:VEVENT
END:VCALENDAR
