BEGIN:VCALENDAR
VERSION:2.0
PRODID: 20260417T120000/7494
CALSCALE:GREGORIAN
METHOD:PUBLISH
BEGIN:VTIMEZONE
TZID:Europe/Prague
BEGIN:STANDARD
END:STANDARD
END:VTIMEZONE
BEGIN:VEVENT
DTSTART:20260417T120000
DTEND:20260418T120000
SUMMARY:Futurum Ophthalmologicum
LOCATION:PEC p. SNĚŽKOU
DESCRIPTION:Futurum Ophthalmologicum
PEC p. SNĚŽKOU
PRIORITY:3
END:VEVENT
END:VCALENDAR
