BEGIN:VCALENDAR
VERSION:2.0
PRODID: 20260424T120000/7495
CALSCALE:GREGORIAN
METHOD:PUBLISH
BEGIN:VTIMEZONE
TZID:Europe/Prague
BEGIN:STANDARD
END:STANDARD
END:VTIMEZONE
BEGIN:VEVENT
DTSTART:20260424T120000
DTEND:20260425T120000
SUMMARY:3. Neuro-oftalmologické fórum 2026
LOCATION:PRAHA
DESCRIPTION:3. Neuro-oftalmologické fórum 2026
PRAHA
PRIORITY:3
END:VEVENT
END:VCALENDAR
