BEGIN:VCALENDAR
VERSION:2.0
PRODID: 20260410T120000/7496
CALSCALE:GREGORIAN
METHOD:PUBLISH
BEGIN:VTIMEZONE
TZID:Europe/Prague
BEGIN:STANDARD
END:STANDARD
END:VTIMEZONE
BEGIN:VEVENT
DTSTART:20260410T120000
DTEND:20260413T120000
SUMMARY:ASCRS
LOCATION:Washington, D.C., USA
DESCRIPTION:ASCRS
Washington, D.C., USA
PRIORITY:3
END:VEVENT
END:VCALENDAR
