BEGIN:VCALENDAR
VERSION:2.0
PRODID: 20260503T120000/7497
CALSCALE:GREGORIAN
METHOD:PUBLISH
BEGIN:VTIMEZONE
TZID:Europe/Prague
BEGIN:STANDARD
END:STANDARD
END:VTIMEZONE
BEGIN:VEVENT
DTSTART:20260503T120000
DTEND:20260507T120000
SUMMARY:ARVO 2026
LOCATION:Denver, Colorado, USA
DESCRIPTION:ARVO 2026
Denver, Colorado, USA
PRIORITY:3
END:VEVENT
END:VCALENDAR
