BEGIN:VCALENDAR
VERSION:2.0
PRODID: 20260514T120000/7498
CALSCALE:GREGORIAN
METHOD:PUBLISH
BEGIN:VTIMEZONE
TZID:Europe/Prague
BEGIN:STANDARD
END:STANDARD
END:VTIMEZONE
BEGIN:VEVENT
DTSTART:20260514T120000
DTEND:20260516T120000
SUMMARY:XXIII. Kongres České společnosti refrakční a kataraktové chirurgie 
LOCATION:BRNO
DESCRIPTION:XXIII. Kongres České společnosti refrakční a kataraktové chirurgie 
BRNO
PRIORITY:3
END:VEVENT
END:VCALENDAR
