BEGIN:VCALENDAR
VERSION:2.0
PRODID: 20260521T120000/7499
CALSCALE:GREGORIAN
METHOD:PUBLISH
BEGIN:VTIMEZONE
TZID:Europe/Prague
BEGIN:STANDARD
END:STANDARD
END:VTIMEZONE
BEGIN:VEVENT
DTSTART:20260521T120000
DTEND:20260522T120000
SUMMARY:XXV. Jihočeské Timrovy dny
LOCATION:ČESKÉ BUDĚJOVICE
DESCRIPTION:XXV. Jihočeské Timrovy dny
ČESKÉ BUDĚJOVICE
PRIORITY:3
END:VEVENT
END:VCALENDAR
