BEGIN:VCALENDAR
VERSION:2.0
PRODID: 20260527T120000/7500
CALSCALE:GREGORIAN
METHOD:PUBLISH
BEGIN:VTIMEZONE
TZID:Europe/Prague
BEGIN:STANDARD
END:STANDARD
END:VTIMEZONE
BEGIN:VEVENT
DTSTART:20260527T120000
DTEND:20260530T120000
SUMMARY:XVI. Vitreoretinální škola ČVRS
LOCATION:MONÍNEC
DESCRIPTION:XVI. Vitreoretinální škola ČVRS
MONÍNEC
PRIORITY:3
END:VEVENT
END:VCALENDAR
