BEGIN:VCALENDAR
VERSION:2.0
PRODID: 20260530T120000/7501
CALSCALE:GREGORIAN
METHOD:PUBLISH
BEGIN:VTIMEZONE
TZID:Europe/Prague
BEGIN:STANDARD
END:STANDARD
END:VTIMEZONE
BEGIN:VEVENT
DTSTART:20260530T120000
DTEND:20260530T120000
SUMMARY:31. Den ambulantní oftalmologie	
LOCATION:PRŮHONICE
DESCRIPTION:31. Den ambulantní oftalmologie	
PRŮHONICE
PRIORITY:3
END:VEVENT
END:VCALENDAR
