BEGIN:VCALENDAR
VERSION:2.0
PRODID: 20260605T120000/7502
CALSCALE:GREGORIAN
METHOD:PUBLISH
BEGIN:VTIMEZONE
TZID:Europe/Prague
BEGIN:STANDARD
END:STANDARD
END:VTIMEZONE
BEGIN:VEVENT
DTSTART:20260605T120000
DTEND:20260606T120000
SUMMARY:XVIII. Symposium dětské oftalmologie
LOCATION:BRATISLAVA
DESCRIPTION:XVIII. Symposium dětské oftalmologie
BRATISLAVA
PRIORITY:3
END:VEVENT
END:VCALENDAR
