BEGIN:VCALENDAR
VERSION:2.0
PRODID: 20260612T120000/7503
CALSCALE:GREGORIAN
METHOD:PUBLISH
BEGIN:VTIMEZONE
TZID:Europe/Prague
BEGIN:STANDARD
END:STANDARD
END:VTIMEZONE
BEGIN:VEVENT
DTSTART:20260612T120000
DTEND:20260613T120000
SUMMARY:25. Setkání mladých oftalmologů
LOCATION:MOST
DESCRIPTION:25. Setkání mladých oftalmologů
MOST
PRIORITY:3
END:VEVENT
END:VCALENDAR
