BEGIN:VCALENDAR
VERSION:2.0
PRODID: 20260626T120000/7504
CALSCALE:GREGORIAN
METHOD:PUBLISH
BEGIN:VTIMEZONE
TZID:Europe/Prague
BEGIN:STANDARD
END:STANDARD
END:VTIMEZONE
BEGIN:VEVENT
DTSTART:20260626T120000
DTEND:20260629T120000
SUMMARY:WOC
LOCATION:Praha, Česká Republika
DESCRIPTION:WOC
Praha, Česká Republika
PRIORITY:3
END:VEVENT
END:VCALENDAR
