BEGIN:VCALENDAR
VERSION:2.0
PRODID: 20260911T120000/7505
CALSCALE:GREGORIAN
METHOD:PUBLISH
BEGIN:VTIMEZONE
TZID:Europe/Prague
BEGIN:STANDARD
END:STANDARD
END:VTIMEZONE
BEGIN:VEVENT
DTSTART:20260911T120000
DTEND:20260915T120000
SUMMARY:44rd Congress of the ESCRS
LOCATION:Londýn, Velká Británie
DESCRIPTION:44rd Congress of the ESCRS
Londýn, Velká Británie
PRIORITY:3
END:VEVENT
END:VCALENDAR
