BEGIN:VCALENDAR
VERSION:2.0
PRODID: 20261001T120000/7506
CALSCALE:GREGORIAN
METHOD:PUBLISH
BEGIN:VTIMEZONE
TZID:Europe/Prague
BEGIN:STANDARD
END:STANDARD
END:VTIMEZONE
BEGIN:VEVENT
DTSTART:20261001T120000
DTEND:20261003T120000
SUMMARY:XXXIV. Výroční sjezd České oftalmologické společnosti
LOCATION:OSTRAVA
DESCRIPTION:XXXIV. Výroční sjezd České oftalmologické společnosti
OSTRAVA
PRIORITY:3
END:VEVENT
END:VCALENDAR
