BEGIN:VCALENDAR
VERSION:2.0
PRODID: 20261001T120000/7507
CALSCALE:GREGORIAN
METHOD:PUBLISH
BEGIN:VTIMEZONE
TZID:Europe/Prague
BEGIN:STANDARD
END:STANDARD
END:VTIMEZONE
BEGIN:VEVENT
DTSTART:20261001T120000
DTEND:20261004T120000
SUMMARY:26th EURETINA Congress
LOCATION:Vídeň, Rakousko
DESCRIPTION:26th EURETINA Congress
Vídeň, Rakousko
PRIORITY:3
END:VEVENT
END:VCALENDAR
