BEGIN:VCALENDAR
VERSION:2.0
PRODID: 20261009T120000/7508
CALSCALE:GREGORIAN
METHOD:PUBLISH
BEGIN:VTIMEZONE
TZID:Europe/Prague
BEGIN:STANDARD
END:STANDARD
END:VTIMEZONE
BEGIN:VEVENT
DTSTART:20261009T120000
DTEND:20261009T120000
SUMMARY:Den uveitid 
LOCATION:PRAHA	
DESCRIPTION:Den uveitid 
PRAHA	
PRIORITY:3
END:VEVENT
END:VCALENDAR
