BEGIN:VCALENDAR
VERSION:2.0
PRODID: 20261009T120000/7509
CALSCALE:GREGORIAN
METHOD:PUBLISH
BEGIN:VTIMEZONE
TZID:Europe/Prague
BEGIN:STANDARD
END:STANDARD
END:VTIMEZONE
BEGIN:VEVENT
DTSTART:20261009T120000
DTEND:20261012T120000
SUMMARY:AAO 2026
LOCATION:New Orleans, USA
DESCRIPTION:AAO 2026
New Orleans, USA
PRIORITY:3
END:VEVENT
END:VCALENDAR
