BEGIN:VCALENDAR
VERSION:2.0
PRODID: 20261016T120000/7510
CALSCALE:GREGORIAN
METHOD:PUBLISH
BEGIN:VTIMEZONE
TZID:Europe/Prague
BEGIN:STANDARD
END:STANDARD
END:VTIMEZONE
BEGIN:VEVENT
DTSTART:20261016T120000
DTEND:20261016T120000
SUMMARY:36. Ústecký oftalmologický den
LOCATION:ÚSTÍ NAD LABEM
DESCRIPTION:36. Ústecký oftalmologický den
ÚSTÍ NAD LABEM
PRIORITY:3
END:VEVENT
END:VCALENDAR
