BEGIN:VCALENDAR
VERSION:2.0
PRODID: 20261016T120000/7511
CALSCALE:GREGORIAN
METHOD:PUBLISH
BEGIN:VTIMEZONE
TZID:Europe/Prague
BEGIN:STANDARD
END:STANDARD
END:VTIMEZONE
BEGIN:VEVENT
DTSTART:20261016T120000
DTEND:20261017T120000
SUMMARY:Glaukomový kurz ČGS nejen pro rezidenty
LOCATION:ZLÍN
DESCRIPTION:Glaukomový kurz ČGS nejen pro rezidenty
ZLÍN
PRIORITY:3
END:VEVENT
END:VCALENDAR
