BEGIN:VCALENDAR
VERSION:2.0
PRODID: 20261023T120000/7512
CALSCALE:GREGORIAN
METHOD:PUBLISH
BEGIN:VTIMEZONE
TZID:Europe/Prague
BEGIN:STANDARD
END:STANDARD
END:VTIMEZONE
BEGIN:VEVENT
DTSTART:20261023T120000
DTEND:20261024T120000
SUMMARY:X. Trendy v dětské oftalmologii
LOCATION:LITOMYŠL
DESCRIPTION:X. Trendy v dětské oftalmologii
LITOMYŠL
PRIORITY:3
END:VEVENT
END:VCALENDAR
