BEGIN:VCALENDAR
VERSION:2.0
PRODID: 20261102T120000/7513
CALSCALE:GREGORIAN
METHOD:PUBLISH
BEGIN:VTIMEZONE
TZID:Europe/Prague
BEGIN:STANDARD
END:STANDARD
END:VTIMEZONE
BEGIN:VEVENT
DTSTART:20261102T120000
DTEND:20261106T120000
SUMMARY:KATARAKTOVÁ ŠKOLA
LOCATION:SLANÝ
DESCRIPTION:KATARAKTOVÁ ŠKOLA
SLANÝ
PRIORITY:3
END:VEVENT
END:VCALENDAR
