BEGIN:VCALENDAR
VERSION:2.0
PRODID: 20261107T120000/7514
CALSCALE:GREGORIAN
METHOD:PUBLISH
BEGIN:VTIMEZONE
TZID:Europe/Prague
BEGIN:STANDARD
END:STANDARD
END:VTIMEZONE
BEGIN:VEVENT
DTSTART:20261107T120000
DTEND:20261107T120000
SUMMARY:16. Zirmův olomoucký diskuzní den
LOCATION:OLOMOUC
DESCRIPTION:16. Zirmův olomoucký diskuzní den
OLOMOUC
PRIORITY:3
END:VEVENT
END:VCALENDAR
