BEGIN:VCALENDAR
VERSION:2.0
PRODID: 20261107T120000/7515
CALSCALE:GREGORIAN
METHOD:PUBLISH
BEGIN:VTIMEZONE
TZID:Europe/Prague
BEGIN:STANDARD
END:STANDARD
END:VTIMEZONE
BEGIN:VEVENT
DTSTART:20261107T120000
DTEND:20261107T120000
SUMMARY:Pražský oční festival
LOCATION:PRAHA
DESCRIPTION:Pražský oční festival
PRAHA
PRIORITY:3
END:VEVENT
END:VCALENDAR
