BEGIN:VCALENDAR
VERSION:2.0
PRODID: 20261120T120000/7516
CALSCALE:GREGORIAN
METHOD:PUBLISH
BEGIN:VTIMEZONE
TZID:Europe/Prague
BEGIN:STANDARD
END:STANDARD
END:VTIMEZONE
BEGIN:VEVENT
DTSTART:20261120T120000
DTEND:20261120T120000
SUMMARY:XIII. Západočeský oftalmologický seminář
LOCATION:KARLOVY VARY
DESCRIPTION:XIII. Západočeský oftalmologický seminář
KARLOVY VARY
PRIORITY:3
END:VEVENT
END:VCALENDAR
