BEGIN:VCALENDAR
VERSION:2.0
PRODID: 20261121T120000/7517
CALSCALE:GREGORIAN
METHOD:PUBLISH
BEGIN:VTIMEZONE
TZID:Europe/Prague
BEGIN:STANDARD
END:STANDARD
END:VTIMEZONE
BEGIN:VEVENT
DTSTART:20261121T120000
DTEND:20261121T120000
SUMMARY:5. pracovní den České okuloplastické společnosti
LOCATION:PRAHA
DESCRIPTION:5. pracovní den České okuloplastické společnosti
PRAHA
PRIORITY:3
END:VEVENT
END:VCALENDAR
