BEGIN:VCALENDAR
VERSION:2.0
PRODID: 20261126T120000/7518
CALSCALE:GREGORIAN
METHOD:PUBLISH
BEGIN:VTIMEZONE
TZID:Europe/Prague
BEGIN:STANDARD
END:STANDARD
END:VTIMEZONE
BEGIN:VEVENT
DTSTART:20261126T120000
DTEND:20261128T120000
SUMMARY:25. Kongres České vitreoretinální společnosti
LOCATION:MIKULOV
DESCRIPTION:25. Kongres České vitreoretinální společnosti
MIKULOV
PRIORITY:3
END:VEVENT
END:VCALENDAR
