BEGIN:VCALENDAR
VERSION:2.0
PRODID: 20261204T120000/7519
CALSCALE:GREGORIAN
METHOD:PUBLISH
BEGIN:VTIMEZONE
TZID:Europe/Prague
BEGIN:STANDARD
END:STANDARD
END:VTIMEZONE
BEGIN:VEVENT
DTSTART:20261204T120000
DTEND:20261204T120000
SUMMARY:47. Strakonický seminář
LOCATION:STRAKONICE
DESCRIPTION:47. Strakonický seminář
STRAKONICE
PRIORITY:3
END:VEVENT
END:VCALENDAR
