BEGIN:VCALENDAR
VERSION:2.0
PRODID: 20261211T120000/7520
CALSCALE:GREGORIAN
METHOD:PUBLISH
BEGIN:VTIMEZONE
TZID:Europe/Prague
BEGIN:STANDARD
END:STANDARD
END:VTIMEZONE
BEGIN:VEVENT
DTSTART:20261211T120000
DTEND:20261211T120000
SUMMARY:XVIII. Rohovkový den
LOCATION:PRAHA
DESCRIPTION:XVIII. Rohovkový den
PRAHA
PRIORITY:3
END:VEVENT
END:VCALENDAR
